BEGIN:VCALENDAR
VERSION:2.0
PRODID:-//jEvents 2.0 for Joomla//EN
CALSCALE:GREGORIAN
METHOD:PUBLISH
BEGIN:VTIMEZONE
TZID:Europe/Berlin
BEGIN:STANDARD
DTSTART:20231029T020000
RDATE:20240331T030000
TZOFFSETFROM:+0200
TZOFFSETTO:+0100
TZNAME:Europe/Berlin CET
END:STANDARD
BEGIN:STANDARD
DTSTART:20241027T020000
RDATE:20250330T030000
TZOFFSETFROM:+0200
TZOFFSETTO:+0100
TZNAME:Europe/Berlin CET
END:STANDARD
BEGIN:STANDARD
DTSTART:20251026T020000
RDATE:20260329T030000
TZOFFSETFROM:+0200
TZOFFSETTO:+0100
TZNAME:Europe/Berlin CET
END:STANDARD
BEGIN:STANDARD
DTSTART:20261025T020000
RDATE:20270328T030000
TZOFFSETFROM:+0200
TZOFFSETTO:+0100
TZNAME:Europe/Berlin CET
END:STANDARD
BEGIN:DAYLIGHT
DTSTART:20230414T110000
RDATE:20231029T020000
TZOFFSETFROM:+0100
TZOFFSETTO:+0200
TZNAME:Europe/Berlin CEST
END:DAYLIGHT
BEGIN:DAYLIGHT
DTSTART:20240331T030000
RDATE:20241027T020000
TZOFFSETFROM:+0100
TZOFFSETTO:+0200
TZNAME:Europe/Berlin CEST
END:DAYLIGHT
BEGIN:DAYLIGHT
DTSTART:20250330T030000
RDATE:20251026T020000
TZOFFSETFROM:+0100
TZOFFSETTO:+0200
TZNAME:Europe/Berlin CEST
END:DAYLIGHT
BEGIN:DAYLIGHT
DTSTART:20260329T030000
RDATE:20261025T020000
TZOFFSETFROM:+0100
TZOFFSETTO:+0200
TZNAME:Europe/Berlin CEST
END:DAYLIGHT
END:VTIMEZONE
BEGIN:VEVENT
UID:3f9506e1e7d4b498423984ab4e6d6741
CATEGORIES:Kantatengottesdienst
CREATED:20231227T184135
SUMMARY:KANTATENGOTTESDIENST | BWV 85 || DREIKÖNIGSKIRCHE
LOCATION:: Dreikönigskirche Frankfurt am Main (Sachsenhäuser Ufer | Nähe Eiserner St
 eg)
URL;VALUE=URI:https://andreas-koehs.de/de/konzertprogramm/konzertkalender/Eventdetail/235
 /-/kantatengottesdienst-bwv-85-dreikoenigskirche?tmpl=component
DESCRIPTION:Sonntag, 14.04.2024, 11:00 Uhr\n(Misericordias Domini)\nDreikönigskirche Fr
 ankfurt am Main (https://www.kirchenmusik-dreikoenig.de)\nKantatengottesdie
 nstJohann Sebastian Bach (1685-1750)\n"Ich bin ein guter Hirt" | BWV 85\nSi
 mone Schwark | Sopran\nJulia Diefenbach | Alt\nGeorg Poplutz | Tenor\nFlori
 an Küppers | Bass\nTelemann-Ensemble Frankfurt\nAndreas Köhs | Leitung und 
 Orgel\nPfarrer Jürgen Seidl | Liturgie und Predigt\n(Verabschiedung von Pfa
 rrer Jürgen Seidl)\n Dieser Event wurde importiert von: https://andreas-koe
 hs.de/de/konzertprogramm/konzertkalender/Eventdetail/235/-/kantatengottesdi
 enst-bwv-85-dreikoenigskirche?tmpl=component (https://andreas-koehs.de/de/k
 onzertprogramm/konzertkalender/Eventdetail/235/-/kantatengottesdienst-bwv-8
 5-dreikoenigskirche?tmpl=component)
X-ALT-DESC;FMTTYPE=text/html:<p style="text-align: left;"><strong>Sonntag, 14.04.2024, 11:00 Uhr<br /></
 strong>(Misericordias Domini)<strong><br /><a href="https://www.kirchenmusi
 k-dreikoenig.de" target="_blank" rel="alternate noopener noreferrer" title=
 "Dreikönigskirche Frankfurt am Main (Sachsenhäuser Mainufer, Nähe Eiserner 
 Steg)">Dreikönigskirche Frankfurt am Main</a></strong></p><h4 style="text-a
 lign: left;"><strong>Kantatengottesdienst</strong></h4><p style="text-align
 : left;"><strong>J</strong><strong>ohann Sebastian Bach </strong>(1685-1750
 )<br /><strong>"Ich bin ein guter Hirt"</strong> | BWV 85<strong><br /></st
 rong>Simone Schwark | Sopran<br />Julia Diefenbach | Alt<br />Georg Poplutz
 &nbsp;| Tenor<br />Florian Küppers | Bass<br />Telemann-Ensemble Frankfurt<
 br />Andreas Köhs | Leitung und Orgel<br />Pfarrer Jürgen Seidl | Liturgie 
 und Predigt<br />(Verabschiedung von Pfarrer Jürgen Seidl)</p><hr /> <a hre
 f="https://andreas-koehs.de/de/konzertprogramm/konzertkalender/Eventdetail/
 235/-/kantatengottesdienst-bwv-85-dreikoenigskirche?tmpl=component">Dieser 
 Event wurde importiert von: https://andreas-koehs.de/de/konzertprogramm/kon
 zertkalender/Eventdetail/235/-/kantatengottesdienst-bwv-85-dreikoenigskirch
 e?tmpl=component</a>DTSTAMP:20260423T021504
DTSTART;TZID=Europe/Berlin:20240414T110000
DTEND;TZID=Europe/Berlin:20240414T123000
SEQUENCE:0
TRANSP:OPAQUE
END:VEVENT
END:VCALENDAR