BEGIN:VCALENDAR
VERSION:2.0
PRODID:-//jEvents 2.0 for Joomla//EN
CALSCALE:GREGORIAN
METHOD:PUBLISH
BEGIN:VTIMEZONE
TZID:Europe/Berlin
BEGIN:STANDARD
DTSTART:20231029T020000
RDATE:20240331T030000
TZOFFSETFROM:+0200
TZOFFSETTO:+0100
TZNAME:Europe/Berlin CET
END:STANDARD
BEGIN:STANDARD
DTSTART:20241027T020000
RDATE:20250330T030000
TZOFFSETFROM:+0200
TZOFFSETTO:+0100
TZNAME:Europe/Berlin CET
END:STANDARD
BEGIN:STANDARD
DTSTART:20251026T020000
RDATE:20260329T030000
TZOFFSETFROM:+0200
TZOFFSETTO:+0100
TZNAME:Europe/Berlin CET
END:STANDARD
BEGIN:STANDARD
DTSTART:20261025T020000
RDATE:20270328T030000
TZOFFSETFROM:+0200
TZOFFSETTO:+0100
TZNAME:Europe/Berlin CET
END:STANDARD
BEGIN:DAYLIGHT
DTSTART:20230609T110000
RDATE:20231029T020000
TZOFFSETFROM:+0100
TZOFFSETTO:+0200
TZNAME:Europe/Berlin CEST
END:DAYLIGHT
BEGIN:DAYLIGHT
DTSTART:20240331T030000
RDATE:20241027T020000
TZOFFSETFROM:+0100
TZOFFSETTO:+0200
TZNAME:Europe/Berlin CEST
END:DAYLIGHT
BEGIN:DAYLIGHT
DTSTART:20250330T030000
RDATE:20251026T020000
TZOFFSETFROM:+0100
TZOFFSETTO:+0200
TZNAME:Europe/Berlin CEST
END:DAYLIGHT
BEGIN:DAYLIGHT
DTSTART:20260329T030000
RDATE:20261025T020000
TZOFFSETFROM:+0100
TZOFFSETTO:+0200
TZNAME:Europe/Berlin CEST
END:DAYLIGHT
END:VTIMEZONE
BEGIN:VEVENT
UID:e72d04ce8a24cb27ad6ca129987a2be1
CATEGORIES:Kantatengottesdienst
CREATED:20231227T184408
SUMMARY:KANTATENGOTTESDIENST | J. Ph. Krieger || BERGKIRCHE Sachsenhausen
LOCATION:: Bergkirche F-Sachsenhausen (Sachsenhäuser Landwehrweg 157\, 60598 Frankfu
 rt)
URL;VALUE=URI:https://andreas-koehs.de/de/konzertprogramm/konzertkalender/Eventdetail/237
 /-/kantatengottesdienst-j-ph-krieger-bergkirche-sachsenhausen?tmpl=componen
 t
DESCRIPTION:Sonntag, 09.06.2024, 11:00 Uhr \n(2. Sonntag nach Trinitatis)\nBergkirche F
 rankfurt am Main-Sachsenhausen\nKantatengottesdienstJohann Philipp Krieger 
 (1649-1725)\n"Freuet euch des Herrn"\nSimone Schwark | Sopran\nTelemann-Ens
 emble Frankfurt\nAndreas Köhs | Leitung und Orgel\nPfarrerin Stefanie Bohn 
 | Liturgie und Predigt\n Dieser Event wurde importiert von: https://andreas
 -koehs.de/de/konzertprogramm/konzertkalender/Eventdetail/237/-/kantatengott
 esdienst-j-ph-krieger-bergkirche-sachsenhausen?tmpl=component (https://andr
 eas-koehs.de/de/konzertprogramm/konzertkalender/Eventdetail/237/-/kantateng
 ottesdienst-j-ph-krieger-bergkirche-sachsenhausen?tmpl=component)
X-ALT-DESC;FMTTYPE=text/html:<p style="text-align: left;"><strong>Sonntag, 09.06.2024, 11:00 Uhr <br /><
 /strong>(2. Sonntag nach Trinitatis)<strong><br /><a title="Bergkirche Fran
 kfurt-Sachsenhausen (Sachsenhäuser Landwehrweg 157, 60599 Frankfurt am Main
 )">Bergkirche Frankfurt am Main-Sachsenhausen</a></strong></p><h4 style="te
 xt-align: left;"><strong>Kantatengottesdienst</strong></h4><p style="text-a
 lign: left;"><strong>J</strong><strong>ohann Philipp Krieger </strong>(1649
 -1725)<strong><br />"Freuet euch des Herrn"</strong><strong><br /></strong>
 Simone Schwark | Sopran<br />Telemann-Ensemble Frankfurt<br />Andreas Köhs 
 | Leitung und Orgel<br />Pfarrerin Stefanie Bohn | Liturgie und Predigt</p>
 <hr /> <a href="https://andreas-koehs.de/de/konzertprogramm/konzertkalender
 /Eventdetail/237/-/kantatengottesdienst-j-ph-krieger-bergkirche-sachsenhaus
 en?tmpl=component">Dieser Event wurde importiert von: https://andreas-koehs
 .de/de/konzertprogramm/konzertkalender/Eventdetail/237/-/kantatengottesdien
 st-j-ph-krieger-bergkirche-sachsenhausen?tmpl=component</a>DTSTAMP:20260423T082402
DTSTART;TZID=Europe/Berlin:20240609T110000
DTEND;TZID=Europe/Berlin:20240609T120000
SEQUENCE:0
TRANSP:OPAQUE
END:VEVENT
END:VCALENDAR