BEGIN:VCALENDAR
VERSION:2.0
PRODID:-//jEvents 2.0 for Joomla//EN
CALSCALE:GREGORIAN
METHOD:PUBLISH
BEGIN:VTIMEZONE
TZID:Europe/Berlin
BEGIN:STANDARD
DTSTART:20231029T020000
RDATE:20240331T030000
TZOFFSETFROM:+0200
TZOFFSETTO:+0100
TZNAME:Europe/Berlin CET
END:STANDARD
BEGIN:STANDARD
DTSTART:20241027T020000
RDATE:20250330T030000
TZOFFSETFROM:+0200
TZOFFSETTO:+0100
TZNAME:Europe/Berlin CET
END:STANDARD
BEGIN:STANDARD
DTSTART:20251026T020000
RDATE:20260329T030000
TZOFFSETFROM:+0200
TZOFFSETTO:+0100
TZNAME:Europe/Berlin CET
END:STANDARD
BEGIN:STANDARD
DTSTART:20261025T020000
RDATE:20270328T030000
TZOFFSETFROM:+0200
TZOFFSETTO:+0100
TZNAME:Europe/Berlin CET
END:STANDARD
BEGIN:DAYLIGHT
DTSTART:20230616T170000
RDATE:20231029T020000
TZOFFSETFROM:+0100
TZOFFSETTO:+0200
TZNAME:Europe/Berlin CEST
END:DAYLIGHT
BEGIN:DAYLIGHT
DTSTART:20240331T030000
RDATE:20241027T020000
TZOFFSETFROM:+0100
TZOFFSETTO:+0200
TZNAME:Europe/Berlin CEST
END:DAYLIGHT
BEGIN:DAYLIGHT
DTSTART:20250330T030000
RDATE:20251026T020000
TZOFFSETFROM:+0100
TZOFFSETTO:+0200
TZNAME:Europe/Berlin CEST
END:DAYLIGHT
BEGIN:DAYLIGHT
DTSTART:20260329T030000
RDATE:20261025T020000
TZOFFSETFROM:+0100
TZOFFSETTO:+0200
TZNAME:Europe/Berlin CEST
END:DAYLIGHT
END:VTIMEZONE
BEGIN:VEVENT
UID:1f47813a1c31505513b1feb816cf85da
CATEGORIES:Instrumentalkonzert
CREATED:20240305T153159
SUMMARY:ARNSBURGER VESPER || Petra Köhs, Violoncello, und Andreas Köhs, Orgel || PARADIESKAPELLE KLOSTER ARNSBURG
LOCATION:: Paradieskapelle Kloster Arnsburg (Kloster Arnsburg\, Bursenau\, 35423 Lic
 h)
URL;VALUE=URI:https://andreas-koehs.de/de/konzertprogramm/konzertkalender/Eventdetail/266
 /-/arnsburger-vesper-petra-koehs-violoncello-und-andreas-koehs-orgel-paradi
 eskapelle-kloster-arnsburg?tmpl=component
DESCRIPTION:Sonntag, 16.06.2024, 17:00 Uhr \nKloster Arnsburg | Paradieskapelle (https:
 //www.kloster-arnsburg.de/present3.htm)\n(Kloster Arnsburg, Bursenbau, 3542
 3 Lich)\nArnsburger Vesper (https://giessenerland-evangelisch.ekhn.de/das-d
 ekanat/kloster-arnsburg.html)\n"Lobe den Herren"\nPetra Köhs | Barockcello\
 nAndreas Köhs | Orgel\nPfarrerin i.R. Barbara Alt | Texte | Lesungen\n \n \
 n Dieser Event wurde importiert von: https://andreas-koehs.de/de/konzertpro
 gramm/konzertkalender/Eventdetail/266/-/arnsburger-vesper-petra-koehs-violo
 ncello-und-andreas-koehs-orgel-paradieskapelle-kloster-arnsburg?tmpl=compon
 ent (https://andreas-koehs.de/de/konzertprogramm/konzertkalender/Eventdetai
 l/266/-/arnsburger-vesper-petra-koehs-violoncello-und-andreas-koehs-orgel-p
 aradieskapelle-kloster-arnsburg?tmpl=component)
X-ALT-DESC;FMTTYPE=text/html:<p style="text-align: left;"><strong>Sonntag, 16.06.2024, 17:00 Uhr <br /><
 a href="https://www.kloster-arnsburg.de/present3.htm" target="_blank" rel="
 noopener noreferrer" title="Kloster Arnsburg | Paradieskapelle (Kloster Arn
 sburg, Bursenbau, 35423 Lich)">Kloster Arnsburg | Paradieskapelle</a></stro
 ng><br />(Kloster Arnsburg, Bursenbau, 35423 Lich)</p><h4 style="text-align
 : left;"><strong><a href="https://giessenerland-evangelisch.ekhn.de/das-dek
 anat/kloster-arnsburg.html" target="_blank" rel="noopener" title="Arnsburge
 r Vesper - Jahresprogramm 2024">Arnsburger Vesper</a><br /></strong></h4><p
 ><strong>"Lobe den Herren"<br /></strong>Petra Köhs | Barockcello<br />Andr
 eas Köhs | Orgel<br />Pfarrerin i.R. Barbara Alt | Texte | Lesungen</p><p s
 tyle="text-align: left;">&nbsp;</p><hr /><p>&nbsp;</p> <a href="https://and
 reas-koehs.de/de/konzertprogramm/konzertkalender/Eventdetail/266/-/arnsburg
 er-vesper-petra-koehs-violoncello-und-andreas-koehs-orgel-paradieskapelle-k
 loster-arnsburg?tmpl=component">Dieser Event wurde importiert von: https://
 andreas-koehs.de/de/konzertprogramm/konzertkalender/Eventdetail/266/-/arnsb
 urger-vesper-petra-koehs-violoncello-und-andreas-koehs-orgel-paradieskapell
 e-kloster-arnsburg?tmpl=component</a>DTSTAMP:20260423T062913
DTSTART;TZID=Europe/Berlin:20240616T170000
DTEND;TZID=Europe/Berlin:20240616T180000
SEQUENCE:0
TRANSP:OPAQUE
END:VEVENT
END:VCALENDAR