BEGIN:VCALENDAR
VERSION:2.0
PRODID:-//jEvents 2.0 for Joomla//EN
CALSCALE:GREGORIAN
METHOD:PUBLISH
BEGIN:VTIMEZONE
TZID:Europe/Berlin
BEGIN:STANDARD
DTSTART:20231029T020000
RDATE:20240331T030000
TZOFFSETFROM:+0200
TZOFFSETTO:+0100
TZNAME:Europe/Berlin CET
END:STANDARD
BEGIN:STANDARD
DTSTART:20241027T020000
RDATE:20250330T030000
TZOFFSETFROM:+0200
TZOFFSETTO:+0100
TZNAME:Europe/Berlin CET
END:STANDARD
BEGIN:STANDARD
DTSTART:20251026T020000
RDATE:20260329T030000
TZOFFSETFROM:+0200
TZOFFSETTO:+0100
TZNAME:Europe/Berlin CET
END:STANDARD
BEGIN:STANDARD
DTSTART:20261025T020000
RDATE:20270328T030000
TZOFFSETFROM:+0200
TZOFFSETTO:+0100
TZNAME:Europe/Berlin CET
END:STANDARD
BEGIN:DAYLIGHT
DTSTART:20230623T150000
RDATE:20231029T020000
TZOFFSETFROM:+0100
TZOFFSETTO:+0200
TZNAME:Europe/Berlin CEST
END:DAYLIGHT
BEGIN:DAYLIGHT
DTSTART:20240331T030000
RDATE:20241027T020000
TZOFFSETFROM:+0100
TZOFFSETTO:+0200
TZNAME:Europe/Berlin CEST
END:DAYLIGHT
BEGIN:DAYLIGHT
DTSTART:20250330T030000
RDATE:20251026T020000
TZOFFSETFROM:+0100
TZOFFSETTO:+0200
TZNAME:Europe/Berlin CEST
END:DAYLIGHT
BEGIN:DAYLIGHT
DTSTART:20260329T030000
RDATE:20261025T020000
TZOFFSETFROM:+0100
TZOFFSETTO:+0200
TZNAME:Europe/Berlin CEST
END:DAYLIGHT
END:VTIMEZONE
BEGIN:VEVENT
UID:dde403e3ed45bb7ac7bbd82d6026052c
CATEGORIES:Kantatenaufführung
CREATED:20240305T153521
SUMMARY:BACH | KAFFEE-KANTATE, BWV 211 || PFARRGARTEN ERLÖSERGEMEINDE F-OBERRAD
LOCATION:: Pfarrgarten der Ev.-Luth. Erlösergemeinde Frankfurt-Oberrad (Nonnenpfad 5
 4\, 60699 Frankfurt)
URL;VALUE=URI:https://andreas-koehs.de/de/konzertprogramm/konzertkalender/Eventdetail/267
 /-/bach-kaffee-kantate-bwv-211-pfarrgarten-erloesergemeinde-f-oberrad?tmpl=
 component
DESCRIPTION:Sonntag, 23.06.2024, 15:00 Uhr\nPfarrgarten Ev.-Luth. Erlösergemeinde Frank
 furt am Main-Oberrad (https://erloesergemeinde-oberrad.ekhn.de/startseite.h
 tml)\n(Nonnenpfad 54, 60599 Frankfurt)\nAufführung der "Kaffee-Kantate"\nJo
 hann Sebastian Bach (1685-1750)\n"Schweigt stille, plaudert nicht" (Kaffee-
 Kantate) | BWV 211\nAnnemarie Pfahler | Sopran\nJonas Boy | Tenor\nFlorian 
 Küppers | Bass\nTelemann-Ensemble Frankfurt\nAndreas Köhs | Leitung und Cem
 balo\n(Danach: Kaffee und Kuchen im Pfarrgarten!)\n \n Dieser Event wurde i
 mportiert von: https://andreas-koehs.de/de/konzertprogramm/konzertkalender/
 Eventdetail/267/-/bach-kaffee-kantate-bwv-211-pfarrgarten-erloesergemeinde-
 f-oberrad?tmpl=component
X-ALT-DESC;FMTTYPE=text/html:<p style="text-align: left;"><strong>Sonntag, 23.06.2024, 15:00 Uhr</strong
 ><strong><br /><a href="https://erloesergemeinde-oberrad.ekhn.de/startseite
 .html" target="_blank" rel="noopener noreferrer" title="Pfarrgarten der Ev.
 -Luth. Erlösergemeinde Frankfurt am Main-Oberrad (Nonnenpfad 54, 60599 Fran
 kfurt-Oberrad)">Pfarrgarten Ev.-Luth. Erlösergemeinde Frankfurt am Main-Obe
 rrad</a><a title="Pfarrgarten der Ev.-Luth. Erlösergemeinde Frankfurt am Ma
 in-Oberrad (Nonnenpfad 54, 60499 Frankfurt)"><br /></a></strong>(Nonnenpfad
  54, 60599 Frankfurt)</p><h4 style="text-align: left;"><strong>Aufführung d
 er "Kaffee-Kantate"<br /></strong></h4><p style="text-align: left;"><strong
 >Johann Sebastian Bach&nbsp;</strong>(1685-1750)<br /><strong>"Schweigt sti
 lle, plaudert nicht" (Kaffee-Kantate) </strong>| BWV 211<br />Annemarie Pfa
 hler | Sopran<br />Jonas Boy | Tenor<br />Florian Küppers | Bass<br />Telem
 ann-Ensemble Frankfurt<br />Andreas Köhs | Leitung und Cembalo<br />(Danach
 : Kaffee und Kuchen im Pfarrgarten!)</p><p style="text-align: left;">&nbsp;
 </p><hr /> <a href="https://andreas-koehs.de/de/konzertprogramm/konzertkale
 nder/Eventdetail/267/-/bach-kaffee-kantate-bwv-211-pfarrgarten-erloesergeme
 inde-f-oberrad?tmpl=component">Dieser Event wurde importiert von: https://a
 ndreas-koehs.de/de/konzertprogramm/konzertkalender/Eventdetail/267/-/bach-k
 affee-kantate-bwv-211-pfarrgarten-erloesergemeinde-f-oberrad?tmpl=component
 </a>DTSTAMP:20260423T082515
DTSTART;TZID=Europe/Berlin:20240623T150000
DTEND;TZID=Europe/Berlin:20240623T160000
SEQUENCE:0
TRANSP:OPAQUE
END:VEVENT
END:VCALENDAR