BEGIN:VCALENDAR
VERSION:2.0
PRODID:-//jEvents 2.0 for Joomla//EN
CALSCALE:GREGORIAN
METHOD:PUBLISH
BEGIN:VTIMEZONE
TZID:Europe/Berlin
BEGIN:STANDARD
DTSTART:20231029T020000
RDATE:20240331T030000
TZOFFSETFROM:+0200
TZOFFSETTO:+0100
TZNAME:Europe/Berlin CET
END:STANDARD
BEGIN:STANDARD
DTSTART:20241027T020000
RDATE:20250330T030000
TZOFFSETFROM:+0200
TZOFFSETTO:+0100
TZNAME:Europe/Berlin CET
END:STANDARD
BEGIN:STANDARD
DTSTART:20251026T020000
RDATE:20260329T030000
TZOFFSETFROM:+0200
TZOFFSETTO:+0100
TZNAME:Europe/Berlin CET
END:STANDARD
BEGIN:STANDARD
DTSTART:20261025T020000
RDATE:20270328T030000
TZOFFSETFROM:+0200
TZOFFSETTO:+0100
TZNAME:Europe/Berlin CET
END:STANDARD
BEGIN:DAYLIGHT
DTSTART:20230630T170000
RDATE:20231029T020000
TZOFFSETFROM:+0100
TZOFFSETTO:+0200
TZNAME:Europe/Berlin CEST
END:DAYLIGHT
BEGIN:DAYLIGHT
DTSTART:20240331T030000
RDATE:20241027T020000
TZOFFSETFROM:+0100
TZOFFSETTO:+0200
TZNAME:Europe/Berlin CEST
END:DAYLIGHT
BEGIN:DAYLIGHT
DTSTART:20250330T030000
RDATE:20251026T020000
TZOFFSETFROM:+0100
TZOFFSETTO:+0200
TZNAME:Europe/Berlin CEST
END:DAYLIGHT
BEGIN:DAYLIGHT
DTSTART:20260329T030000
RDATE:20261025T020000
TZOFFSETFROM:+0100
TZOFFSETTO:+0200
TZNAME:Europe/Berlin CEST
END:DAYLIGHT
END:VTIMEZONE
BEGIN:VEVENT
UID:837bf6dcbbf77cbd9bb94245ebe67376
CATEGORIES:Instrumentalkonzert
CREATED:20240521T222124
SUMMARY:IM DIALOG: VIOLONCELLO UND ORGEL || Petra Köhs, Violoncello, und Andreas Köhs, Orgel || KIRCHE FRIEDRICHSDORF-SEULBERG
LOCATION:: Ev. Kirche Friedrichsdorf-Seulberg (Alt Seulberg 27\, 61381 Friedrichsdor
 f)
URL;VALUE=URI:https://andreas-koehs.de/de/konzertprogramm/konzertkalender/Eventdetail/275
 /-/im-dialog-violoncello-und-orgel-petra-koehs-violoncello-und-andreas-koeh
 s-orgel-kirche-friedrichsdorf-seulberg?tmpl=component
DESCRIPTION:<p style="text-align: left;"><strong>Sonntag, 30.06.2024, 17:00 Uhr<br /><a
  href="https://seulberg.evangelisch-hochtaunus.de/home/de.html" target="_bl
 ank" rel="noopener noreferrer" title="Ev.-Luth. Kirche Friedrichsdorf-Seulb
 erg (Alt Seulberg 27, 61381 Friedrichsdorf)">Ev.-Luth. Kirche Friedrichsdor
 f-Seulberg&nbsp;<br /></a></strong>(Alt Seulberg 27, 61381 Friedrichsdorf)<
 /p><h4 style="text-align: left;"><strong>Im Dialog: <br />Violoncello und O
 rgel<br /></strong></h4><p style="text-align: left;">Duo- und Solowerke von
  <br />B. Marcello, J. S. Bach, I. Moscheles, <br />M. Bruch, J. G. Rheinbe
 rger u.a.<br />Petra Köhs | Violoncello<br />Andreas Köhs | Orgel</p><p sty
 le="text-align: left;">&nbsp;</p><hr /> <a href="https://andreas-koehs.de/d
 e/konzertprogramm/konzertkalender/Eventdetail/275/-/im-dialog-violoncello-u
 nd-orgel-petra-koehs-violoncello-und-andreas-koehs-orgel-kirche-friedrichsd
 orf-seulberg?tmpl=component">Dieser Event wurde importiert von: https://and
 reas-koehs.de/de/konzertprogramm/konzertkalender/Eventdetail/275/-/im-dialo
 g-violoncello-und-orgel-petra-koehs-violoncello-und-andreas-koehs-orgel-kir
 che-friedrichsdorf-seulberg?tmpl=component</a>DTSTAMP:20260423T083024
DTSTART;TZID=Europe/Berlin:20240630T170000
DTEND;TZID=Europe/Berlin:20240630T180000
SEQUENCE:0
TRANSP:OPAQUE
END:VEVENT
END:VCALENDAR