BEGIN:VCALENDAR
VERSION:2.0
PRODID:-//jEvents 2.0 for Joomla//EN
CALSCALE:GREGORIAN
METHOD:PUBLISH
BEGIN:VTIMEZONE
TZID:Europe/Berlin
BEGIN:STANDARD
DTSTART:20240322T110000
RDATE:20240331T030000
TZOFFSETFROM:+0200
TZOFFSETTO:+0100
TZNAME:Europe/Berlin CET
END:STANDARD
BEGIN:STANDARD
DTSTART:20241027T020000
RDATE:20250330T030000
TZOFFSETFROM:+0200
TZOFFSETTO:+0100
TZNAME:Europe/Berlin CET
END:STANDARD
BEGIN:STANDARD
DTSTART:20251026T020000
RDATE:20260329T030000
TZOFFSETFROM:+0200
TZOFFSETTO:+0100
TZNAME:Europe/Berlin CET
END:STANDARD
BEGIN:STANDARD
DTSTART:20261025T020000
RDATE:20270328T030000
TZOFFSETFROM:+0200
TZOFFSETTO:+0100
TZNAME:Europe/Berlin CET
END:STANDARD
BEGIN:DAYLIGHT
DTSTART:20240331T030000
RDATE:20241027T020000
TZOFFSETFROM:+0100
TZOFFSETTO:+0200
TZNAME:Europe/Berlin CEST
END:DAYLIGHT
BEGIN:DAYLIGHT
DTSTART:20250330T030000
RDATE:20251026T020000
TZOFFSETFROM:+0100
TZOFFSETTO:+0200
TZNAME:Europe/Berlin CEST
END:DAYLIGHT
BEGIN:DAYLIGHT
DTSTART:20260329T030000
RDATE:20261025T020000
TZOFFSETFROM:+0100
TZOFFSETTO:+0200
TZNAME:Europe/Berlin CEST
END:DAYLIGHT
END:VTIMEZONE
BEGIN:VEVENT
UID:5529a40096172184811fac94071f8c6d
CATEGORIES:Kantatengottesdienst
CREATED:20241011T221348
SUMMARY:KANTATENGOTTESDIENST | BWV 13 || ERLÖSERGEMEINDE Frankfurt-Oberrad
LOCATION:: Erlösergemeinde Oberrad (Wiener Straße 23\, 60599 Frankfurt-Oberrad)
URL;VALUE=URI:https://andreas-koehs.de/de/konzertprogramm/konzertkalender/Eventdetail/285
 /-/kantatengottesdienst-bwv-13-erloesergemeinde-frankfurt-oberrad?tmpl=comp
 onent
DESCRIPTION:Sonntag, 23.03.2025, 11:00 Uhr\n(Okuli)\nEv.-Luth. Erlösergemeinde Frankfur
 t am Main-Oberrad (https://erloesergemeinde-oberrad.ekhn.de/startseite.html
 )\n(Gemeindehaus, Wiener Straße 23, 60599 Frankfurt)\nKantatengottesdienst 
 Johann Sebastian Bach (1685-1750)\n"Meine Seufzer, meine Tränen" | BWV 13\n
 Solisten\nTelemann-Ensemble Frankfurt\nAndreas Köhs | Leitung und Truhenorg
 el\nPfarrerin Anne-Katrin Helms | Liturgie und Predigt\n Dieser Event wurde
  importiert von: https://andreas-koehs.de/de/konzertprogramm/konzertkalende
 r/Eventdetail/285/-/kantatengottesdienst-bwv-13-erloesergemeinde-frankfurt-
 oberrad?tmpl=component
X-ALT-DESC;FMTTYPE=text/html:<p style="text-align: left;"><strong>Sonntag, 23.03.2025, 11:00 Uhr</strong
 ><br />(Okuli)<strong><br /><a href="https://erloesergemeinde-oberrad.ekhn.
 de/startseite.html" target="_blank" rel="noopener noreferrer" title="Ev.-Lu
 th. Erlösergemeinde Frankfurt am Main-Oberrad (Wiener Straße 23, 60599 Fran
 kfurt-Oberrad)">Ev.-Luth. Erlösergemeinde Frankfurt am Main-Oberrad</a><a t
 itle="Ev.-Luth. Erlösergemeinde Frankfurt am Main-Oberrad (Wiener Straße 23
 , 60499 Frankfurt)"><br /></a></strong>(Gemeindehaus, Wiener Straße 23, 605
 99 Frankfurt)</p><h4 style="text-align: left;"><strong>Kantatengottesdienst
 &nbsp;</strong></h4><p style="text-align: left;"><strong>Johann Sebastian B
 ach&nbsp;</strong>(1685-1750)<br /><strong>"Meine Seufzer, meine Tränen" </
 strong>| BWV 13<br />Solisten<br />Telemann-Ensemble Frankfurt<br />Andreas
  Köhs | Leitung und Truhenorgel<br />Pfarrerin Anne-Katrin Helms | Liturgie
  und Predigt</p><hr /> <a href="https://andreas-koehs.de/de/konzertprogramm
 /konzertkalender/Eventdetail/285/-/kantatengottesdienst-bwv-13-erloesergeme
 inde-frankfurt-oberrad?tmpl=component">Dieser Event wurde importiert von: h
 ttps://andreas-koehs.de/de/konzertprogramm/konzertkalender/Eventdetail/285/
 -/kantatengottesdienst-bwv-13-erloesergemeinde-frankfurt-oberrad?tmpl=compo
 nent</a>DTSTAMP:20260423T192452
DTSTART;TZID=Europe/Berlin:20250323T110000
DTEND;TZID=Europe/Berlin:20250323T120000
SEQUENCE:0
TRANSP:OPAQUE
END:VEVENT
END:VCALENDAR