BEGIN:VCALENDAR
VERSION:2.0
PRODID:-//jEvents 2.0 for Joomla//EN
CALSCALE:GREGORIAN
METHOD:PUBLISH
BEGIN:VTIMEZONE
TZID:Europe/Berlin
BEGIN:STANDARD
DTSTART:20241027T020000
RDATE:20250330T030000
TZOFFSETFROM:+0200
TZOFFSETTO:+0100
TZNAME:Europe/Berlin CET
END:STANDARD
BEGIN:STANDARD
DTSTART:20251026T020000
RDATE:20260329T030000
TZOFFSETFROM:+0200
TZOFFSETTO:+0100
TZNAME:Europe/Berlin CET
END:STANDARD
BEGIN:STANDARD
DTSTART:20261025T020000
RDATE:20270328T030000
TZOFFSETFROM:+0200
TZOFFSETTO:+0100
TZNAME:Europe/Berlin CET
END:STANDARD
BEGIN:DAYLIGHT
DTSTART:20240823T110000
RDATE:20241027T020000
TZOFFSETFROM:+0100
TZOFFSETTO:+0200
TZNAME:Europe/Berlin CEST
END:DAYLIGHT
BEGIN:DAYLIGHT
DTSTART:20250330T030000
RDATE:20251026T020000
TZOFFSETFROM:+0100
TZOFFSETTO:+0200
TZNAME:Europe/Berlin CEST
END:DAYLIGHT
BEGIN:DAYLIGHT
DTSTART:20260329T030000
RDATE:20261025T020000
TZOFFSETFROM:+0100
TZOFFSETTO:+0200
TZNAME:Europe/Berlin CEST
END:DAYLIGHT
END:VTIMEZONE
BEGIN:VEVENT
UID:2b07591ea2aafa8e46ab8464bdf3c890
CATEGORIES:Kantatengottesdienst
CREATED:20241011T223748
SUMMARY:KANTATENGOTTESDIENST | BWV 45 || DREIKÖNIGSKIRCHE
LOCATION:: Dreikönigskirche Frankfurt am Main (Sachsenhäuser Ufer | Nähe Eiserner St
 eg)
URL;VALUE=URI:https://andreas-koehs.de/de/konzertprogramm/konzertkalender/Eventdetail/296
 /-/kantatengottesdienst-bwv-45-dreikoenigskirche?tmpl=component
DESCRIPTION:<p style="text-align: left;"><strong>Sonntag, 24.08.2025, 11:00 Uhr<br /></
 strong>(10. Sonntag nach Trinitatis)<strong><br /><a href="https://www.kirc
 henmusik-dreikoenig.de" target="_blank" rel="alternate noopener noreferrer"
  title="Dreikönigskirche Frankfurt am Main (Sachsenhäuser Mainufer, Nähe Ei
 serner Steg)">Dreikönigskirche Frankfurt am Main</a></strong></p><h4 style=
 "text-align: left;"><strong>Kantatengottesdienst</strong></h4><p style="tex
 t-align: left;"><strong>J</strong><strong>ohann Sebastian Bach </strong>(16
 85-1750)<br /><strong>"Es ist dir gesagt, Mensch, was gut ist"</strong> | B
 WV 45<strong><br /></strong>Heike Heilmann | Sopran<br />Anne Bierwirth | A
 lt<br />Georg Poplutz | Tenor<br />Christoph Kögel | Bass<br />Telemann-Ens
 emble Frankfurt<br />Andreas Köhs | Leitung und Orgel<br />Pfarrerin Silke 
 Alves-Christe | Liturgie und Predigt</p><hr /> <a href="https://andreas-koe
 hs.de/de/konzertprogramm/konzertkalender/Eventdetail/296/-/kantatengottesdi
 enst-bwv-45-dreikoenigskirche?tmpl=component">Dieser Event wurde importiert
  von: https://andreas-koehs.de/de/konzertprogramm/konzertkalender/Eventdeta
 il/296/-/kantatengottesdienst-bwv-45-dreikoenigskirche?tmpl=component</a>DTSTAMP:20260422T151321
DTSTART;TZID=Europe/Berlin:20250824T110000
DTEND;TZID=Europe/Berlin:20250824T120000
SEQUENCE:0
TRANSP:OPAQUE
END:VEVENT
END:VCALENDAR