BEGIN:VCALENDAR
VERSION:2.0
PRODID:-//jEvents 2.0 for Joomla//EN
CALSCALE:GREGORIAN
METHOD:PUBLISH
BEGIN:VTIMEZONE
TZID:Europe/Berlin
BEGIN:STANDARD
DTSTART:20250314T110000
RDATE:20250330T030000
TZOFFSETFROM:+0200
TZOFFSETTO:+0100
TZNAME:Europe/Berlin CET
END:STANDARD
BEGIN:STANDARD
DTSTART:20251026T020000
RDATE:20260329T030000
TZOFFSETFROM:+0200
TZOFFSETTO:+0100
TZNAME:Europe/Berlin CET
END:STANDARD
BEGIN:STANDARD
DTSTART:20261025T020000
RDATE:20270328T030000
TZOFFSETFROM:+0200
TZOFFSETTO:+0100
TZNAME:Europe/Berlin CET
END:STANDARD
BEGIN:DAYLIGHT
DTSTART:20250330T030000
RDATE:20251026T020000
TZOFFSETFROM:+0100
TZOFFSETTO:+0200
TZNAME:Europe/Berlin CEST
END:DAYLIGHT
BEGIN:DAYLIGHT
DTSTART:20260329T030000
RDATE:20261025T020000
TZOFFSETFROM:+0100
TZOFFSETTO:+0200
TZNAME:Europe/Berlin CEST
END:DAYLIGHT
END:VTIMEZONE
BEGIN:VEVENT
UID:38bbc8fd19a97be0eb5bfc6bb9ae181e
CATEGORIES:Kantatengottesdienst
CREATED:20251106T141741
SUMMARY:KANTATENGOTTESDIENST | BWV 1083 || ERLÖSERGEMEINDE Frankfurt-Oberrad
LOCATION:: Erlösergemeinde Oberrad (Wiener Straße 23\, 60599 Frankfurt-Oberrad)
URL;VALUE=URI:https://andreas-koehs.de/de/konzertprogramm/konzertkalender/Eventdetail/339
 /-/kantatengottesdienst-bwv-1083-erloesergemeinde-frankfurt-oberrad?tmpl=co
 mponent
DESCRIPTION:Sonntag, 15.03.2026, 11:00 Uhr\nEv.-Luth. Erlösergemeinde Frankfurt am Main
 -Oberrad (https://erloesergemeinde-oberrad.ekhn.de/startseite.html) \n(Geme
 indehaus, Wiener Straße 23, 60599 Frankfurt)\nKantatengottesdienst Johann S
 ebastian Bach (1685-1750) |\nGiovanni Battista Pergolesi (1710-1736)\n"Tilg
 e, Höchster, meine Sünden" | BWV 1083 | Psalm 51\n Dieser Event wurde impor
 tiert von: https://andreas-koehs.de/de/konzertprogramm/konzertkalender/Even
 tdetail/339/-/kantatengottesdienst-bwv-1083-erloesergemeinde-frankfurt-ober
 rad?tmpl=component
X-ALT-DESC;FMTTYPE=text/html:<p style="text-align: left;"><strong>Sonntag, 15.03.2026, 11:00 Uhr</strong
 ><strong><br /><a href="https://erloesergemeinde-oberrad.ekhn.de/startseite
 .html" target="_blank" rel="noopener noreferrer" title="Ev.-Luth. Erlöserge
 meinde Frankfurt am Main-Oberrad (Wiener Straße 23, 60599 Frankfurt-Oberrad
 )">Ev.-Luth. Erlösergemeinde Frankfurt am Main-Oberrad</a>&nbsp;<br /></str
 ong>(Gemeindehaus, Wiener Straße 23, 60599 Frankfurt)</p><h4 style="text-al
 ign: left;"><strong>Kantatengottesdienst&nbsp;</strong></h4><p style="text-
 align: left;"><strong>Johann Sebastian Bach&nbsp;</strong>(1685-1750) |<br 
 /><strong>Giovanni Battista Pergolesi</strong> (1710-1736)<br /><strong>"Ti
 lge, Höchster, meine Sünden" </strong>| BWV 1083 | Psalm 51</p><hr /> <a hr
 ef="https://andreas-koehs.de/de/konzertprogramm/konzertkalender/Eventdetail
 /339/-/kantatengottesdienst-bwv-1083-erloesergemeinde-frankfurt-oberrad?tmp
 l=component">Dieser Event wurde importiert von: https://andreas-koehs.de/de
 /konzertprogramm/konzertkalender/Eventdetail/339/-/kantatengottesdienst-bwv
 -1083-erloesergemeinde-frankfurt-oberrad?tmpl=component</a>DTSTAMP:20260422T175824
DTSTART;TZID=Europe/Berlin:20260315T110000
DTEND;TZID=Europe/Berlin:20260315T120000
SEQUENCE:0
TRANSP:OPAQUE
END:VEVENT
END:VCALENDAR