BEGIN:VCALENDAR
VERSION:2.0
PRODID:-//jEvents 2.0 for Joomla//EN
CALSCALE:GREGORIAN
METHOD:PUBLISH
BEGIN:VTIMEZONE
TZID:Europe/Berlin
BEGIN:STANDARD
DTSTART:20251026T020000
RDATE:20260329T030000
TZOFFSETFROM:+0200
TZOFFSETTO:+0100
TZNAME:Europe/Berlin CET
END:STANDARD
BEGIN:STANDARD
DTSTART:20261025T020000
RDATE:20270328T030000
TZOFFSETFROM:+0200
TZOFFSETTO:+0100
TZNAME:Europe/Berlin CET
END:STANDARD
BEGIN:DAYLIGHT
DTSTART:20250516T110000
RDATE:20251026T020000
TZOFFSETFROM:+0100
TZOFFSETTO:+0200
TZNAME:Europe/Berlin CEST
END:DAYLIGHT
BEGIN:DAYLIGHT
DTSTART:20260329T030000
RDATE:20261025T020000
TZOFFSETFROM:+0100
TZOFFSETTO:+0200
TZNAME:Europe/Berlin CEST
END:DAYLIGHT
END:VTIMEZONE
BEGIN:VEVENT
UID:94257ca90b0a4327c3d5f9d8dac1df50
CATEGORIES:Kantatengottesdienst
CREATED:20251106T142652
SUMMARY:KANTATENGOTTESDIENST | BWV 87 || DREIKÖNIGSKIRCHE
LOCATION:: Dreikönigskirche Frankfurt am Main (Sachsenhäuser Ufer | Nähe Eiserner St
 eg)
URL;VALUE=URI:https://andreas-koehs.de/de/konzertprogramm/konzertkalender/Eventdetail/345
 /-/kantatengottesdienst-bwv-87-dreikoenigskirche?tmpl=component
DESCRIPTION:Sonntag, 17.05.2026, 11:00 Uhr\nDreikönigskirche Frankfurt am Main (https:/
 /www.kirchenmusik-dreikoenig.de)\nKantatengottesdienstJohann Sebastian Bach
  (1685-1750)\n"Bisher habt ihr nichts gebeten in meinem Namen" | BWV 87\n D
 ieser Event wurde importiert von: https://andreas-koehs.de/de/konzertprogra
 mm/konzertkalender/Eventdetail/345/-/kantatengottesdienst-bwv-87-dreikoenig
 skirche?tmpl=component (https://andreas-koehs.de/de/konzertprogramm/konzert
 kalender/Eventdetail/345/-/kantatengottesdienst-bwv-87-dreikoenigskirche?tm
 pl=component)
X-ALT-DESC;FMTTYPE=text/html:<p style="text-align: left;"><strong>Sonntag, 17.05.2026, 11:00 Uhr</strong
 ><strong><br /><a href="https://www.kirchenmusik-dreikoenig.de" target="_bl
 ank" rel="alternate noopener noreferrer" title="Dreikönigskirche Frankfurt 
 am Main (Sachsenhäuser Mainufer, Nähe Eiserner Steg)">Dreikönigskirche Fran
 kfurt am Main</a></strong></p><h4 style="text-align: left;"><strong>Kantate
 ngottesdienst</strong></h4><p style="text-align: left;"><strong>J</strong><
 strong>ohann Sebastian Bach </strong>(1685-1750)<br /><strong>"Bisher habt 
 ihr nichts gebeten in meinem Namen"</strong> | BWV 87</p><hr /> <a href="ht
 tps://andreas-koehs.de/de/konzertprogramm/konzertkalender/Eventdetail/345/-
 /kantatengottesdienst-bwv-87-dreikoenigskirche?tmpl=component">Dieser Event
  wurde importiert von: https://andreas-koehs.de/de/konzertprogramm/konzertk
 alender/Eventdetail/345/-/kantatengottesdienst-bwv-87-dreikoenigskirche?tmp
 l=component</a>DTSTAMP:20260422T114211
DTSTART;TZID=Europe/Berlin:20260517T110000
DTEND;TZID=Europe/Berlin:20260517T120000
SEQUENCE:0
TRANSP:OPAQUE
END:VEVENT
END:VCALENDAR