BEGIN:VCALENDAR
VERSION:2.0
PRODID:-//jEvents 2.0 for Joomla//EN
CALSCALE:GREGORIAN
METHOD:PUBLISH
BEGIN:VTIMEZONE
TZID:Europe/Berlin
BEGIN:STANDARD
DTSTART:20251026T020000
RDATE:20260329T030000
TZOFFSETFROM:+0200
TZOFFSETTO:+0100
TZNAME:Europe/Berlin CET
END:STANDARD
BEGIN:STANDARD
DTSTART:20261025T020000
RDATE:20270328T030000
TZOFFSETFROM:+0200
TZOFFSETTO:+0100
TZNAME:Europe/Berlin CET
END:STANDARD
BEGIN:DAYLIGHT
DTSTART:20250815T110000
RDATE:20251026T020000
TZOFFSETFROM:+0100
TZOFFSETTO:+0200
TZNAME:Europe/Berlin CEST
END:DAYLIGHT
BEGIN:DAYLIGHT
DTSTART:20260329T030000
RDATE:20261025T020000
TZOFFSETFROM:+0100
TZOFFSETTO:+0200
TZNAME:Europe/Berlin CEST
END:DAYLIGHT
END:VTIMEZONE
BEGIN:VEVENT
UID:9633aebc4260efa5e85d2e8c9c651ec7
CATEGORIES:Kantatengottesdienst
CREATED:20251106T143427
SUMMARY:KANTATENGOTTESDIENST | BWV 35 || DREIKÖNIGSKIRCHE
LOCATION:: Dreikönigskirche Frankfurt am Main (Sachsenhäuser Ufer | Nähe Eiserner St
 eg)
URL;VALUE=URI:https://andreas-koehs.de/de/konzertprogramm/konzertkalender/Eventdetail/350
 /-/kantatengottesdienst-bwv-35-dreikoenigskirche?tmpl=component
DESCRIPTION:Sonntag, 16.08.2026, 11:00 Uhr\nDreikönigskirche Frankfurt am Main (https:/
 /www.kirchenmusik-dreikoenig.de)\nKantatengottesdienstJohann Sebastian Bach
  (1685-1750)\n"Geist und Seele wird verwirret" | BWV 35\n Dieser Event wurd
 e importiert von: https://andreas-koehs.de/de/konzertprogramm/konzertkalend
 er/Eventdetail/350/-/kantatengottesdienst-bwv-35-dreikoenigskirche?tmpl=com
 ponent (https://andreas-koehs.de/de/konzertprogramm/konzertkalender/Eventde
 tail/350/-/kantatengottesdienst-bwv-35-dreikoenigskirche?tmpl=component)
X-ALT-DESC;FMTTYPE=text/html:<p style="text-align: left;"><strong>Sonntag, 16.08.2026, 11:00 Uhr</strong
 ><strong><br /><a href="https://www.kirchenmusik-dreikoenig.de" target="_bl
 ank" rel="alternate noopener noreferrer" title="Dreikönigskirche Frankfurt 
 am Main (Sachsenhäuser Mainufer, Nähe Eiserner Steg)">Dreikönigskirche Fran
 kfurt am Main</a></strong></p><h4 style="text-align: left;"><strong>Kantate
 ngottesdienst</strong></h4><p style="text-align: left;"><strong>J</strong><
 strong>ohann Sebastian Bach </strong>(1685-1750)<br /><strong>"Geist und Se
 ele wird verwirret"</strong> | BWV 35</p><hr /> <a href="https://andreas-ko
 ehs.de/de/konzertprogramm/konzertkalender/Eventdetail/350/-/kantatengottesd
 ienst-bwv-35-dreikoenigskirche?tmpl=component">Dieser Event wurde importier
 t von: https://andreas-koehs.de/de/konzertprogramm/konzertkalender/Eventdet
 ail/350/-/kantatengottesdienst-bwv-35-dreikoenigskirche?tmpl=component</a>DTSTAMP:20260422T224123
DTSTART;TZID=Europe/Berlin:20260816T110000
DTEND;TZID=Europe/Berlin:20260816T120000
SEQUENCE:0
TRANSP:OPAQUE
END:VEVENT
END:VCALENDAR