BEGIN:VCALENDAR
VERSION:2.0
PRODID:-//jEvents 2.0 for Joomla//EN
CALSCALE:GREGORIAN
METHOD:PUBLISH
BEGIN:VTIMEZONE
TZID:Europe/Berlin
BEGIN:STANDARD
DTSTART:20251026T020000
RDATE:20260329T030000
TZOFFSETFROM:+0200
TZOFFSETTO:+0100
TZNAME:Europe/Berlin CET
END:STANDARD
BEGIN:STANDARD
DTSTART:20261025T020000
RDATE:20270328T030000
TZOFFSETFROM:+0200
TZOFFSETTO:+0100
TZNAME:Europe/Berlin CET
END:STANDARD
BEGIN:DAYLIGHT
DTSTART:20250926T170000
RDATE:20251026T020000
TZOFFSETFROM:+0100
TZOFFSETTO:+0200
TZNAME:Europe/Berlin CEST
END:DAYLIGHT
BEGIN:DAYLIGHT
DTSTART:20260329T030000
RDATE:20261025T020000
TZOFFSETFROM:+0100
TZOFFSETTO:+0200
TZNAME:Europe/Berlin CEST
END:DAYLIGHT
END:VTIMEZONE
BEGIN:VEVENT
UID:19aeff843e4401e44821aac98d1ac5da
CATEGORIES:Chorkonzert
CREATED:20251106T143934
SUMMARY:CHORKONZERT "LAUDATE" || Kurt-Thomas-Kammerchor || DREIKÖNIGSKIRCHE Frankfurt
LOCATION:: Dreikönigskirche Frankfurt (Sachsenhäuser Ufer | Nähe Eiserner Steg)
URL;VALUE=URI:https://andreas-koehs.de/de/konzertprogramm/konzertkalender/Eventdetail/353
 /-/chorkonzert-laudate-kurt-thomas-kammerchor-dreikoenigskirche-frankfurt?t
 mpl=component
DESCRIPTION:Sonntag, 27.09.2026, 17:00 Uhr \nDreikönigskirche Frankfurt am Main (https:
 //www.kirchenmusik-dreikoenig.de)\nCHORKONZERT \n"Laudate"Einojuhani Rautav
 aara (1928-2016) \nMISSA a cappella Motetten von \nHeinrich Schütz (1585-16
 72),\nJohann Sebastian Bach (1685-1750),\nArnold Schönberg (1874-1951) u.a.
 \nKurt-Thomas-Kammerchor\nwww.kurt-thomas-kammerchor.de (https://www.kurt-t
 homas-kammerchor.de/) \nAndreas Köhs | Leitung\nwww.andreas-koehs.de (https
 ://www.andreas-koehs.de)\n Tickets: 20 EUR, ermäßigt 15 EUR \n(Abendkasse |
  freie Platzwahl)\n \n Dieser Event wurde importiert von: https://andreas-k
 oehs.de/de/konzertprogramm/konzertkalender/Eventdetail/353/-/chorkonzert-la
 udate-kurt-thomas-kammerchor-dreikoenigskirche-frankfurt?tmpl=component (ht
 tps://andreas-koehs.de/de/konzertprogramm/konzertkalender/Eventdetail/353/-
 /chorkonzert-laudate-kurt-thomas-kammerchor-dreikoenigskirche-frankfurt?tmp
 l=component)
X-ALT-DESC;FMTTYPE=text/html:<p style="text-align: left;"><strong>Sonntag, 27.09.2026, 17:00 Uhr <br /><
 a href="https://www.kirchenmusik-dreikoenig.de" target="_blank" rel="altern
 ate noopener noreferrer" title="Dreikönigskirche Frankfurt am Main (Sachsen
 häuser Mainufer, Nähe Eiserner Steg)">Dreikönigskirche Frankfurt am Main</a
 ></strong></p><h4 style="text-align: left;"><strong>CHORKONZERT <br />"Laud
 ate"</strong></h4><h5 style="text-align: left;"><strong>Einojuhani Rautavaa
 ra</strong> (1928-2016) <br /><strong>MISSA a cappella&nbsp;</strong></h5><
 p><strong>Motetten von</strong> <br /><strong>Heinrich Schütz</strong> (158
 5-1672),<br /><strong>Johann Sebastian Bach</strong> (1685-1750),<br /><str
 ong>Arnold Schönberg </strong>(1874-1951) u.a.</p><p><strong>Kurt-Thomas-Ka
 mmerchor</strong><br /><a href="https://www.kurt-thomas-kammerchor.de/" tar
 get="_blank" rel="noopener noreferrer" title="www.kurt-thomas-kammerchor.de
 ">www.kurt-thomas-kammerchor.de</a> <br /><strong>Andreas Köhs</strong> | L
 eitung<br /><a href="https://www.andreas-koehs.de" target="_blank" rel="noo
 pener" title="www.andreas-koehs.de">www.andreas-koehs.de</a></p><p style="t
 ext-align: left;"><i class="fas fa-ticket"></i> Tickets: 20 EUR, ermäßigt 1
 5 EUR <br />(Abendkasse | freie Platzwahl)</p><p>&nbsp;</p><hr /> <a href="
 https://andreas-koehs.de/de/konzertprogramm/konzertkalender/Eventdetail/353
 /-/chorkonzert-laudate-kurt-thomas-kammerchor-dreikoenigskirche-frankfurt?t
 mpl=component">Dieser Event wurde importiert von: https://andreas-koehs.de/
 de/konzertprogramm/konzertkalender/Eventdetail/353/-/chorkonzert-laudate-ku
 rt-thomas-kammerchor-dreikoenigskirche-frankfurt?tmpl=component</a>DTSTAMP:20260424T093725
DTSTART;TZID=Europe/Berlin:20260927T170000
DTEND;TZID=Europe/Berlin:20260927T183000
SEQUENCE:0
TRANSP:OPAQUE
END:VEVENT
END:VCALENDAR